BEGIN:VCALENDAR
VERSION:2.0
PRODID:-//Tukios.com/
BEGIN:VEVENT
UID:747ad765-f2f6-4129-8a38-ac88cd5c46ba@www.popkessmortuary.com
DTSTAMP:20260420T061952Z
DTSTART:20260422T230000Z
DTEND:20260423T010000Z
SUMMARY:Visitation
DESCRIPTION:
URL:https://www.popkessmortuary.com/obituaries/jon-isch
LOCATION:NorthRidge Church 316 Lincoln  Sabetha KS 66534
GEO:39.9099643;-95.7950127
END:VEVENT
END:VCALENDAR