BEGIN:VCALENDAR
VERSION:2.0
PRODID:-//Tukios.com/
BEGIN:VEVENT
UID:fc1a3720-e509-4aa4-b863-df0e4c344c40@www.popkessmortuary.com
DTSTAMP:20260420T062004Z
DTSTART:20260423T150000Z
DTEND:20260423T160000Z
SUMMARY:Funeral Service
DESCRIPTION:
URL:https://www.popkessmortuary.com/obituaries/jon-isch
LOCATION:NorthRidge Church 316 Lincoln  Sabetha KS 66534
GEO:39.9099643;-95.7950127
END:VEVENT
END:VCALENDAR